0.25
0
0
-0.25
562840.125
4754249.875
