0.25
0
0
-0.25
572990.125
4758979.875
