0.25
0
0
-0.25
583180.125
4759099.875
