0.25
0
0
-0.25
566240.125
4754279.875
