0.25
0
0
-0.25
566330.125
4745029.875
