0.25
0
0
-0.25
600200.125
4757029.875
