0.25
0
0
-0.25
593470.125
4752299.875
