0.25
0
0
-0.25
610580.125
4745619.875
