0.25
0
0
-0.25
613990.125
4745679.875
