0.25
0
0
-0.25
623910.125
4762049.875
