0.25
0
0
-0.25
634280.125
4752999.875
