0.25
0
0
-0.25
620750.125
4748109.875
