0.25
0
0
-0.25
627600.125
4745919.875
