0.25
0
0
-0.25
631010.125
4745989.875
