0.25
0
0
-0.25
637820.125
4746129.875
