0.25
0
0
-0.25
647830.125
4755599.875
