0.25
0
0
-0.25
647980.125
4748659.875
