0.25
0
0
-0.25
668460.125
4746819.875
