0.25
0
0
-0.25
559540.125
4742649.875
