0.25
0
0
-0.25
583460.125
4735969.875
