0.25
0
0
-0.25
580080.125
4733609.875
