0.25
0
0
-0.25
583520.125
4731339.875
