0.25
0
0
-0.25
576720.125
4728949.875
