0.25
0
0
-0.25
566510.125
4726519.875
