0.25
0
0
-0.25
603810.125
4743199.875
