0.25
0
0
-0.25
600440.125
4740829.875
