0.25
0
0
-0.25
597060.125
4738469.875
