0.25
0
0
-0.25
603910.125
4736259.875
