0.25
0
0
-0.25
624240.125
4743549.875
