0.25
0
0
-0.25
624280.125
4741229.875
