0.25
0
0
-0.25
651590.125
4739479.875
