0.25
0
0
-0.25
672030.125
4739969.875
