0.25
0
0
-0.25
655100.125
4734929.875
