0.25
0
0
-0.25
563130.125
4721859.875
