0.25
0
0
-0.25
549490.125
4719429.875
