0.25
0
0
-0.25
549550.125
4710179.875
