0.25
0
0
-0.25
546150.125
4707839.875
