0.25
0
0
-0.25
573360.125
4724279.875
