0.25
0
0
-0.25
583660.125
4719779.875
