0.25
0
0
-0.25
573430.125
4717339.875
