0.25
0
0
-0.25
590520.125
4717549.875
