0.25
0
0
-0.25
590550.125
4715239.875
