0.25
0
0
-0.25
583800.125
4708209.875
