0.25
0
0
-0.25
611060.125
4715549.875
