0.25
0
0
-0.25
628030.125
4722789.875
