0.25
0
0
-0.25
634860.125
4722919.875
