0.25
0
0
-0.25
624660.125
4720409.875
