0.25
0
0
-0.25
634910.125
4720609.875
