0.25
0
0
-0.25
628120.125
4718159.875
