0.25
0
0
-0.25
631580.125
4715909.875
